Workbook
Name _: #REF!
Name _: #REF!
Name __: #REF!
Name __: #REF!
Name _____NRC10: #REF!
Name _____NRC10: #REF!
Name _____ORC10: #REF!
Name _____ORC10: #REF!
Name _____ORC11: #REF!
Name _____ORC11: #REF!
Name ____CAP2: '[1]CAR tb101'!#REF!
Name ____CAP2: '[1]CAR tb101'!#REF!
Name ____CAP3: '[1]CAR tb101'!#REF!
Name ____CAP3: '[1]CAR tb101'!#REF!
Name ____CAP4: '[1]CAR tb101'!#REF!
Name ____CAP4: '[1]CAR tb101'!#REF!
Name ____CAP5: '[1]CAR tb101'!#REF!
Name ____CAP5: '[1]CAR tb101'!#REF!
Name ____cha12: '[1]CAR tb101'!#REF!
Name ____cha12: '[1]CAR tb101'!#REF!
Name ____cha13: '[1]CAR tb101'!#REF!
Name ____cha13: '[1]CAR tb101'!#REF!
Name ____cha14: '[1]CAR tb101'!#REF!
Name ____cha14: '[1]CAR tb101'!#REF!
Name ____cha15: '[1]CAR tb101'!#REF!
Name ____cha15: '[1]CAR tb101'!#REF!
Name ____cha22: '[1]CAR tb101'!#REF!
Name ____cha22: '[1]CAR tb101'!#REF!
Name ____cha23: '[1]CAR tb101'!#REF!
Name ____cha23: '[1]CAR tb101'!#REF!
Name ____cha24: '[1]CAR tb101'!#REF!
Name ____cha24: '[1]CAR tb101'!#REF!
Name ____cha25: '[1]CAR tb101'!#REF!
Name ____cha25: '[1]CAR tb101'!#REF!
Name ____cha32: '[1]CAR tb101'!#REF!
Name ____cha32: '[1]CAR tb101'!#REF!
Name ____cha33: '[1]CAR tb101'!#REF!
Name ____cha33: '[1]CAR tb101'!#REF!
Name ____cha34: '[1]CAR tb101'!#REF!
Name ____cha34: '[1]CAR tb101'!#REF!
Name ____cha35: '[1]CAR tb101'!#REF!
Name ____cha35: '[1]CAR tb101'!#REF!
Name ____cha42: '[1]CAR tb101'!#REF!
Name ____cha42: '[1]CAR tb101'!#REF!
Name ____cha43: '[1]CAR tb101'!#REF!
Name ____cha43: '[1]CAR tb101'!#REF!
Name ____cha44: '[1]CAR tb101'!#REF!
Name ____cha44: '[1]CAR tb101'!#REF!
Name ____cha45: '[1]CAR tb101'!#REF!
Name ____cha45: '[1]CAR tb101'!#REF!
Name ____cha52: '[1]CAR tb101'!#REF!
Name ____cha52: '[1]CAR tb101'!#REF!
Name ____cha53: '[1]CAR tb101'!#REF!
Name ____cha53: '[1]CAR tb101'!#REF!
Name ____cha54: '[1]CAR tb101'!#REF!
Name ____cha54: '[1]CAR tb101'!#REF!
Name ____cha55: '[1]CAR tb101'!#REF!
Name ____cha55: '[1]CAR tb101'!#REF!
Name ____cha62: '[1]CAR tb101'!#REF!
Name ____cha62: '[1]CAR tb101'!#REF!

Sheet Balance sheet
B1: Consolidated balance sheet
C2: IFRS 17
B3: ASSETS - €m | C3: 45016 | D3: 45107 | E3: 45199 | F3: 45291 | G3: 45382 | H3: 45473 | I3: 45565 | J3: 45657 | K3: 45747 | L3: 45838 | M3: 45930 | N3: 46022 | O3: 46112 | P3: 46203
B4: Intangible assets | C4: 237087.41 | D4: 236193.96 | E4: 233244.16 | F4: 239714.6 | G4: 238190.35 | H4: 237372.48 | I4: 237656.74 | J4: 240428.63 | K4: 238407.46 | L4: 237824.45 | M4: 239264.18 | N4: 263141.2 | O4: 263491.44 | P4: =+'[54]Bilan par nature (Conso)'!$G$9 -> 266716.2
B5: Goodwill | C5: 155521.45 | D5: 155325.81 | E5: 155473.47 | F5: 155309.11 | G5: 155476.41 | H5: 155481.79 | I5: 154985.95 | J5: 156772.01 | K5: 156084.95 | L5: 155707.56 | M5: 155833.45 | N5: 169789.5 | O5: 170151.22 | P5: =+'[54]Bilan par nature (Conso)'!$G$10 -> 170791.28
B6: Other intangible assets | C6: 81565.962 | D6: 80868.15 | E6: 77770.69 | F6: 84405.488 | G6: 82713.944 | H6: 81890.689 | I6: 82670.79 | J6: 83656.619 | K6: 82322.508 | L6: 82116.89 | M6: 83430.733 | N6: 93351.696 | O6: 93340.219 | P6: =+'[54]Bilan par nature (Conso)'!$G$16 -> 95924.918
B7: Insurance business investments | C7: 3103752.3 | D7: 2963418.6 | E7: 3022663.8 | F7: 3341112 | G7: 3252492.7 | H7: 3239548.8 | I7: 3277847.9 | J7: 3357201.2 | K7: 3425979.1 | L7: 3272394.7 | M7: 3389780.6 | N7: 3309439.1 | O7: 3350985.6 | P7: =SUM(P8:P12) -> 3276348.5
B8: Investment property | C8: 288 | D8: 288 | E8: 288 | F8: 288 | G8: 288 | H8: 0 | I8: 0 | J8: 0 | K8: 0 | L8: 0 | M8: 0 | N8: 0 | O8: 0 | P8: 0
B9: Investments at amortized cost | C9: 106531.63 | D9: 92390.211 | E9: 94597.306 | F9: 143211.02 | G9: 200875.03 | H9: 112977.55 | I9: 81832.045 | J9: 118175.31 | K9: 119387 | L9: 57564.697 | M9: 128260.64 | N9: 108018.86 | O9: 82181.511 | P9: =+'[54]Bilan par nature (Conso)'!$G$46 -> 89404.541
B10: Investments at FV/OCI | C10: 2395980.1 | D10: 2360379.5 | E10: 2363205.8 | F10: 2367308.6 | G10: 2428422.3 | H10: 2561256.7 | I10: 2706828.4 | J10: 2712568.9 | K10: 2695915.3 | L10: 2673753.6 | M10: 2704193.6 | N10: 2709411.5 | O10: 2702926.8 | P10: =+'[54]Bilan par nature (Conso)'!$G$110 -> 2708276.8
B11: Investments at FV P&L | C11: 600294.97 | D11: 509973.27 | E11: 562036.77 | F11: 827902.79 | G11: 622807.27 | H11: 564979.07 | I11: 487099.14 | J11: 526272.23 | K11: 607915.38 | L11: 538768.27 | M11: 556940.41 | N11: 491563.13 | O11: 565877.29 | P11: =+'[54]Bilan par nature (Conso)'!$G$162 -> 478667.16
B12: Derivatives | C12: 657.59499 | D12: 387.66355 | E12: 2535.9324 | F12: 2401.595 | G12: 100.012 | H12: 335.53655 | I12: 2088.3347 | J12: 184.68398 | K12: 2761.436 | L12: 2308.2166 | M12: 385.931 | N12: 445.62372 | O12: 0 | P12: 0
B13: Receivables arising from banking and other activities | C13: 2969052.4 | D13: 3106698.4 | E13: 3039360.7 | F13: 2903980.5 | G13: 3037641.5 | H13: 3085701.3 | I13: 2970282.3 | J13: 3090178.4 | K13: 3257227.1 | L13: 3192029.4 | M13: 3223118.2 | N13: 3020051 | O13: 3445993.3 | P13: =+'[54]Bilan par nature (Conso)'!$G$219 -> 3494211.4
B14: Investments in associates | C14: 0 | D14: 0 | E14: 0 | F14: 0 | G14: 0 | H14: 0 | I14: 0 | J14: 0 | K14: 0 | L14: 0 | M14: 0 | N14: 0 | O14: 0 | P14: 0
B15: Reinsurers' share of insurance liabilities | C15: 340565.15 | D15: 344335.11 | E15: 361164.7 | F15: 384809.89 | G15: 369415.19 | H15: 353641.67 | I15: 388109.57 | J15: 393642.59 | K15: 398553.59 | L15: 384306.61 | M15: 393562.9 | N15: 407924.1 | O15: 385872.6 | P15: =+'[54]Bilan par nature (Conso)'!$G$232 -> 387339.52
B16: Other assets | C16: 549197.04 | D16: 508487.49 | E16: 563718.98 | F16: 533107.01 | G16: 525767.7 | H16: 501612.75 | I16: 500672.96 | J16: 494851.59 | K16: 513726.8 | L16: 544202.27 | M16: 551262.36 | N16: 587956.01 | O16: 575118.93 | P16: =SUM(P17:P23) -> 608467.22
B17: Buildings used in the business and other property, plant and equipment | C17: 93357.282 | D17: 90399.538 | E17: 89088.956 | F17: 85488.489 | G17: 90722.613 | H17: 90171.51 | I17: 88945.04 | J17: 88679.098 | K17: 84646.552 | L17: 82961.269 | M17: 82596.784 | N17: 86999.103 | O17: 89106.461 | P17: =+'[54]Bilan par nature (Conso)'!$G$262 -> 116260.55
B18: Deferred acquisition costs | C18: -1.05e-33 | D18: -2.3e-34 | E18: -4.6e-34 | F18: 1.7e-34 | G18: 1.5e-34 | H18: 0 | I18: 6.6e-34 | J18: -6.5e-35 | K18: 6.79e-35 | L18: 1.1e-34 | M18: -7.18e-35 | N18: 1.402e-34 | O18: 0 | P18: 0
B19: Deferred tax assets | C19: 81653.741 | D19: 75117.987 | E19: 95093.371 | F19: 89898.614 | G19: 89350.163 | H19: 73403.323 | I19: 86418.351 | J19: 54506.583 | K19: 60458.665 | L19: 52346.442 | M19: 55139.798 | N19: 68093.585 | O19: 67067.404 | P19: =+'[54]Bilan par nature (Conso)'!$G$283 -> 66914.442
B20: Receivables arising from insurance and reinsurance operations | C20: 9.01e-34 | D20: 2.30063e-34 | E20: 8.5306e-34 | F20: -1.3095e-33 | G20: 0 | H20: 0 | I20: -1.0136e-33 | J20: -9.52137e-34 | K20: 1.091e-33 | L20: 0 | M20: 0 | N20: 0 | O20: 0 | P20: 0
B21: Trade receivables arising from other activities | C21: 54261.063 | D21: 58388.597 | E21: 38139.548 | F21: 54318.973 | G21: 57607.225 | H21: 60448.156 | I21: 59457.606 | J21: 66948.529 | K21: 75034.042 | L21: 77523.466 | M21: 68772.632 | N21: 81606.461 | O21: 85943.061 | P21: =+'[54]Bilan par nature (Conso)'!$G$323 -> 75789.451
B22: Current tax receivables | C22: 62543.455 | D22: 67686.079 | E22: 110369.8 | F22: 73447.179 | G22: 50954.019 | H22: 47962.83 | I22: 54567.139 | J22: 62426.722 | K22: 69858.246 | L22: 117442.39 | M22: 129563.15 | N22: 122774.31 | O22: 106470.42 | P22: =+'[54]Bilan par nature (Conso)'!$G$327 -> 117986.22
B23: Other receivables | C23: 257381.5 | D23: 216895.29 | E23: 231027.3 | F23: 229953.76 | G23: 237133.68 | H23: 229626.94 | I23: 211284.82 | J23: 222290.66 | K23: 223729.3 | L23: 213928.7 | M23: 215190 | N23: 228482.55 | O23: 226531.59 | P23: =+'[54]Bilan par nature (Conso)'!$G$331 -> 231516.56
B24: Cash and cash equivalents | C24: 565821.79 | D24: 559298.81 | E24: 538704.88 | F24: 495558.21 | G24: 549467.55 | H24: 446521.83 | I24: 478422.51 | J24: 507832.07 | K24: 468500.69 | L24: 438834.3 | M24: 375620.82 | N24: 501458.09 | O24: 472817.22 | P24: =+'[54]Bilan par nature (Conso)'!$G$366 -> 438262.25
B25: TOTAL ASSETS | C25: 7765476.1 | D25: 7718432.4 | E25: 7758857.1 | F25: 7898282.2 | G25: 7972975 | H25: 7864398.9 | I25: 7852992 | J25: 8084134.4 | K25: 8302394.7 | L25: 8069591.8 | M25: 8172609.1 | N25: 8089969.5 | O25: 8494279.1 | P25: =+P24+P16+P15+P14+P13+P7+P4 -> 8471345
C27: IFRS 17
B28: EQUITY & LIABILITIES - €m | C28: 45016 | D28: 45107 | E28: 45199 | F28: 45291 | G28: 45382 | H28: 45473 | I28: 45565 | J28: 45657 | K28: 45747 | L28: 45838 | M28: 45565 | N28: 46022 | O28: 46112 | P28: =P3 -> 46203
B29: Equity attributable to owners of the parent | C29: 2100436.7 | D29: 1925259.5 | E29: 1983706.4 | F29: 2050762 | G29: 2118477.8 | H29: 2002939.7 | I29: 2106015.1 | J29: 2193555.2 | K29: 2233990.9 | L29: 2098002.8 | M29: 2153229.3 | N29: 2213003.2 | O29: 2254235 | P29: =+'[54]Bilan par nature (Conso)'!$G$381 -> 2166348.6
B30: Share capital | C30: 300359.58 | D30: 300359.58 | E30: 300359.58 | F30: 300359.58 | G30: 300359.59 | H30: 300359.59 | I30: 300359.59 | J30: 300359.59 | K30: 300359.59 | L30: 300359.59 | M30: 300359.59 | N30: 300359.59 | O30: 300359.59 | P30: =+'[54]Bilan par nature (Conso)'!$G$382 -> 300359.59
B31: Additional paid-in capital | C31: 723501.45 | D31: 723501.45 | E31: 723501.45 | F31: 723501.45 | G31: 723501.45 | H31: 723501.45 | I31: 723501.45 | J31: 723517.17 | K31: 723517.17 | L31: 723517.17 | M31: 723517.17 | N31: 723517.17 | O31: 723517.17 | P31: =+'[54]Bilan par nature (Conso)'!$G$384 -> 723517.17
B32: Retained earnings | C32: 1119101.6 | D32: 893713.72 | E32: 893708.92 | F32: 899232.78 | G32: 1145188.9 | H32: 960764.68 | I32: 965299.38 | J32: 966484.9 | K32: 1228269.4 | L32: 1019978 | M32: 1024501.3 | N32: 1028272.8 | O32: 1256327.5 | P32: =+'[54]Bilan par nature (Conso)'!$G$410 -> 1074165.5
B33: Other comprehensive income | C33: -103700.27 | D33: -121152.23 | E33: -123571.25 | F33: -112831.67 | G33: -119008.3 | H33: -123939.84 | I33: -90828.915 | J33: -57876.569 | K33: -80272.656 | L33: -70053.292 | M33: -71406.274 | N33: -61155.211 | O33: -79579.941 | P33: =+'[54]Bilan par nature (Conso)'!$G$441 -> -39472.032
B34: Consolidated net income for the period | C34: 61174.298 | D34: 128836.98 | E34: 189707.7 | F34: 240499.84 | G34: 68436.195 | H34: 142253.86 | I34: 207683.57 | J34: 261066.79 | K34: 62117.466 | L34: 124201.39 | M34: 176257.61 | N34: 222008.98 | O34: 53610.638 | P34: =+'[54]Bilan par nature (Conso)'!$G$442 -> 107775
B35: Non-controlling interests | C35: 2162.3577 | D35: 1979.8723 | E35: 2057.1824 | F35: 2173.0461 | G35: 2244.5258 | H35: 2300.738 | I35: 2299.9037 | J35: 2221.2338 | K35: 2247.4223 | L35: 2599.6273 | M35: 2661.8489 | N35: 2274.8933 | O35: 2856.2252 | P35: =+'[54]Bilan par nature (Conso)'!$G$445 -> 565.05492
B36: Total equity | C36: 2102599 | D36: 1927239.4 | E36: 1985763.6 | F36: 2052935 | G36: 2120722.4 | H36: 2005240.5 | I36: 2108315 | J36: 2195776.4 | K36: 2236238.3 | L36: 2100602.4 | M36: 2155891.1 | N36: 2215278.1 | O36: 2257091.2 | P36: =+P35+P29 -> 2166913.6
B37: Provisions for liabilities and charges | C37: 65346.685 | D37: 70890.062 | E37: 71172.298 | F37: 73941.876 | G37: 72668.212 | H37: 68650.034 | I37: 68969.392 | J37: 70245.973 | K37: 85084.976 | L37: 81278.158 | M37: 81846.088 | N37: 76828.632 | O37: 75864.924 | P37: =+'[54]Bilan par nature (Conso)'!$G$473 -> 79986.962
B38: Financing liabilities | C38: 531898.89 | D38: 538720.21 | E38: 527749.81 | F38: 831742.85 | G38: 606978.01 | H38: 615904.45 | I38: 606924.95 | J38: 598700.12 | K38: 607579.54 | L38: 616540.11 | M38: 607599.86 | N38: 599412.27 | O38: 608284.23 | P38: =+'[54]Bilan par nature (Conso)'!$G$525 -> 617255.49
B39: Lease liabilities | C39: 73566.815 | D39: 71484.866 | E39: 70745.867 | F39: 67620.511 | G39: 68846.595 | H39: 71732.95 | I39: 70731.369 | J39: 70528.966 | K39: 68223.94 | L39: 65025.634 | M39: 64500.963 | N39: 68348.551 | O39: 68518.366 | P39: =+'[54]Bilan par nature (Conso)'!$G$526 -> 88802.343
B40: Liabilities relating to insurance contracts | C40: 1415961.7 | D40: 1464813.2 | E40: 1489497.3 | F40: 1468406.4 | G40: 1495122.5 | H40: 1524764.4 | I40: 1491630.2 | J40: 1500667.8 | K40: 1510799.3 | L40: 1456282.5 | M40: 1468239.3 | N40: 1445020.1 | O40: 1425556.2 | P40: =+'[54]Bilan par nature (Conso)'!$G$529 -> 1431845.8
B41: Payables arising from banking sector activities | C41: 2953108.2 | D41: 3134180.4 | E41: 3047949.9 | F41: 2893071.9 | G41: 3053674.8 | H41: 3069869.9 | I41: 2967536.7 | J41: 3124951.1 | K41: 3257582.1 | L41: 3179029.8 | M41: 3214259.5 | N41: 3072240.8 | O41: 3438331.4 | P41: =SUM(P42:P44) -> 3481368.2
...

Sheet P&L - Analytic view
B1: Consolidated income statement - Analytic view
B2: published figures | C2: IFRS 17 | R2: IFRS 17
B3: in €m | C3: Q1 2023 | D3: Q2 2023 | E3: Q3 2023 | F3: Q4 2023 | G3: Q1 2024 | H3: Q2 2024 | I3: Q3 2024 | J3: Q4 2024 | K3: Q1 2025 | L3: Q2 2025 | M3: Q3 2025 | N3: Q4 2025 | O3: Q1 2026 | P3: Q2 2026 | R3: FY 2023 | S3: FY 2024 | T3: FY 2025
B4: Insurance revenue | C4: 395345.22 | D4: 407767.34 | E4: 384698.7 | F4: 371251.69 | G4: 378649.32 | H4: 375635.2 | I4: 375889.25 | J4: 382749.16 | K4: 382906.54 | L4: 377057.89 | M4: 368529.13 | N4: 370163.11 | O4: 369776.04 | P4: =+'[54]Bilan par nature (Conso)'!$G$723-O4 -> 384231.23 | R4: 1559063 | S4: 1512922.9 | T4: 1498656.7
B5: Fees and commission income | C5: 46532.986 | D5: 43186.218 | E5: 39992.358 | F5: 41662.817 | G5: 49295.968 | H5: 46897.152 | I5: 42425.418 | J5: 41272.067 | K5: 50996.031 | L5: 45990.307 | M5: 41650.926 | N5: 43792.467 | O5: 51439.501 | P5: =+'[54]Bilan par nature (Conso)'!$G$858-O5 -> 45215.021 | R5: 171374.38 | S5: 179890.6 | T5: 182429.73
B6: Net income from banking activities | C6: 18509.295 | D6: 18457.439 | E6: 18068.73 | F6: 17650.05 | G6: 17644.561 | H6: 18838.275 | I6: 17228.269 | J6: 19977.214 | K6: 17624.553 | L6: 18459.242 | M6: 17997.891 | N6: 17794.69 | O6: 17991.227 | P6: =+'[54]Bilan par nature (Conso)'!$G$874-O6 -> 19355.4 | R6: 72685.513 | S6: 73688.319 | T6: 71876.376
B7: Income from services activities | C7: 14746.386 | D7: 15118.677 | E7: 15360.475 | F7: 19883.002 | G7: 18088.022 | H7: 17692.867 | I7: 18298.345 | J7: 24259.668 | K7: 21692.432 | L7: 21865.936 | M7: 21766.806 | N7: 28964.079 | O7: 25903.411 | P7: =+'[54]Bilan par nature (Conso)'!$G$883-O7 -> 25354.08 | R7: 65108.541 | S7: 78338.901 | T7: 94289.252
B8: Other revenue | C8: 79788.667 | D8: 76762.334 | E8: 73421.563 | F8: 79195.869 | G8: 85028.551 | H8: 83428.293 | I8: 77952.031 | J8: 85508.948 | K8: 90313.016 | L8: 86315.485 | M8: 81415.624 | N8: 90551.235 | O8: 95334.139 | P8: =SUM(P5:P7) -> 89924.5 | R8: 309168.43 | S8: 331917.82 | T8: 348595.36
B9: REVENUE | C9: 475133.88 | D9: 484529.68 | E9: 458120.27 | F9: 450447.56 | G9: 463677.87 | H9: 459063.49 | I9: 453841.28 | J9: 468258.1 | K9: 473219.55 | L9: 463373.38 | M9: 449944.75 | N9: 460714.34 | O9: 465110.18 | P9: =SUM(P4:P7) -> 474155.73 | R9: 1868231.4 | S9: 1844840.7 | T9: 1847252
B10: Claims expenses | C10: -161865.81 | D10: -155591.89 | E10: -144426.26 | F10: -96759.759 | G10: -126122 | H10: -119189.47 | I10: -126391.73 | J10: -134493.23 | K10: -147620.44 | L10: -139648.83 | M10: -129085.74 | N10: -144900.97 | O10: -134458.47 | P10: =+'[54]Bilan par nature (Conso)'!$G$765-O10 -> -142448.14 | R10: -558643.72 | S10: -506196.43 | T10: -561255.98
B11: Loss component | C11: 786.45273 | D11: 227.34389 | E11: 5.3061323 | F11: -423.43557 | G11: 435.2859 | H11: 0.001002983 | I11: -390.53429 | J11: 382.76725 | K11: -633.37901 | L11: 593.74317 | M11: -188.70405 | N11: -80.965313 | O11: 284.43964 | P11: =+'[54]Bilan par nature (Conso)'!$G$791-O11 -> -260.03561 | R11: 595.66718 | S11: 427.51987 | T11: -309.30521
B12: Expenses from banking activities excl. cost of risk | C12: -6144.1598 | D12: -5950.7045 | E12: -6432.8521 | F12: 4509.5774 | G12: -3653.8918 | H12: -3546.1304 | I12: -3672.332 | J12: -3244.3207 | K12: -3879.6469 | L12: -3595.6949 | M12: -3769.8072 | N12: -3798.3651 | O12: -3846.4825 | P12: =+'[54]Bilan par nature (Conso)'!$G$893-O12 -> -3961.7598 | R12: -14018.139 | S12: -14116.675 | T12: -15043.514
B13: Expenses from services activities | C13: -30488.427 | D13: -30969.614 | E13: -31340.904 | F13: -49671.243 | G13: -36138.061 | H13: -41509.354 | I13: -43335.744 | J13: -45927.608 | K13: -44401.906 | L13: -45609.067 | M13: -47160.269 | N13: -43959.675 | O13: -50453.914 | P13: =+'[54]Bilan par nature (Conso)'!$G$895-O13 -> -51267.444 | R13: -142470.19 | S13: -166910.77 | T13: -181130.92
B14: Attributable costs | C14: -135866.62 | D14: -139961.82 | E14: -136924.11 | F14: -134246.53 | G14: -140568.01 | H14: -137189.4 | I14: -129956.64 | J14: -142750.32 | K14: -140202.51 | L14: -142752.79 | M14: -140483.26 | N14: -136934.54 | O14: -139858.58 | P14: =+'[54]Bilan par nature (Conso)'!$G$779-O14 -> -144300.97 | R14: -546999.08 | S14: -550464.36 | T14: -560373.1
B15: Non attributable expenses from insurance activity | C15: -24868.744 | D15: -22520.165 | E15: -24777.538 | F15: -34348.633 | G15: -26987.55 | H15: -29324.96 | I15: -29993.015 | J15: -34326.555 | K15: -30867.234 | L15: -32472.207 | M15: -29382.881 | N15: -42415.062 | O15: -33731.689 | P15: =+'[54]Bilan par nature (Conso)'!$G$891-O15 -> -36465.913 | R15: -106515.08 | S15: -120632.08 | T15: -135137.38
B16: Provision for litigation | C16: 0 | D16: 0 | E16: 0 | F16: 0 | G16: 0 | H16: 0 | I16: 0 | J16: 0 | K16: 0 | L16: 0 | M16: 0 | N16: 30.858272 | O16: 0 | P16: 0 | R16: 0 | S16: 0 | T16: 30.858272
B17: Operating expenses | C17: -197367.95 | D17: -199402.3 | E17: -199475.41 | F17: -213756.82 | G17: -207347.51 | H17: -211569.84 | I17: -206957.73 | J17: -226248.8 | K17: -219351.29 | L17: -224429.76 | M17: -220796.21 | N17: -227076.79 | O17: -227890.67 | P17: =SUM(P12:P16) -> -235996.08 | R17: -810002.48 | S17: -852123.88 | T17: -891654.05
B18: Cost of risk | C18: -60.492787 | D18: -158.26671 | E18: 10.797637 | F18: -325.95674 | G18: 183.99973 | H18: -90.732345 | I18: -206.18114 | J18: 287.36649 | K18: 297.90156 | L18: -197.74864 | M18: 18.372421 | N18: -7.2548096 | O18: -24.771068 | P18: =+'[54]Bilan par nature (Conso)'!$G$953-O18 -> 430.3856 | R18: -533.91859 | S18: 174.45274 | T18: 111.27053
B19: UNDERWRITING INCOME/LOSS BEFORE REINSURANCE | C19: 116626.08 | D19: 129604.57 | E19: 114234.7 | F19: 139181.58 | G19: 130827.65 | H19: 128213.45 | I19: 119895.09 | J19: 108186.21 | K19: 105912.34 | L19: 99690.787 | M19: 99892.468 | N19: 88648.365 | O19: 103020.72 | P19: =P9+P18+P10++P11+P17 -> 95881.856 | R19: 499646.93 | S19: 487122.4 | T19: 394143.96
B20: Reinsurance result | C20: -21290.253 | D20: -26128.377 | E20: -23042.545 | F20: -33779.104 | G20: -30521.549 | H20: -33535.47 | I20: -31091.682 | J20: -23288.401 | K20: -20528.891 | L20: -31459.064 | M20: -31279.606 | N20: -28577.123 | O20: -25390.082 | P20: =+'[54]Bilan par nature (Conso)'!$G$851-O20 -> -21016.233 | R20: -104240.28 | S20: -118437.1 | T20: -111844.68
B21: UNDERWRITING INCOME/LOSS AFTER REINSURANCE | C21: 95335.824 | D21: 103476.19 | E21: 91192.159 | F21: 105402.48 | G21: 100306.1 | H21: 94677.98 | I21: 88803.412 | J21: 84897.805 | K21: 85383.452 | L21: 68231.723 | M21: 68612.861 | N21: 60071.242 | O21: 77630.635 | P21: =P19+P20 -> 74865.623 | R21: 395406.65 | S21: 368685.3 | T21: 282299.28
B22: Investment income, net of management expenses | C22: -2609.8507 | D22: 4026.2488 | E22: 13047.344 | F22: -2037.1901 | G22: 17921.87 | H22: 22849.218 | I22: 19055.046 | J22: 31877.13 | K22: 10386.196 | L22: 15932.252 | M22: 19125.857 | N22: 20390.757 | O22: 22379.52 | P22: =+'[54]Bilan par nature (Conso)'!$G$1204-O22 -> 25321.401 | R22: 12426.552 | S22: 91703.263 | T22: 65835.062
B23: Insurance Finance Expenses | C23: -2360.8097 | D23: -12346.112 | E23: -15373.586 | F23: -9878.7579 | G23: -11394.378 | H23: -6659.6282 | I23: -7346.0042 | J23: -17120.143 | K23: -4143.7638 | L23: 10841.321 | M23: -7637.8177 | N23: -8301.3872 | O23: -15837.679 | P23: =+'[54]Bilan par nature (Conso)'!$G$1235+'[54]Bilan par nature (Conso)'!$G$1255-O23 -> -13261.564 | R23: -39959.265 | S23: -42520.153 | T23: -9241.6476
B24: CURRENT OPERATING INCOME | C24: 90365.163 | D24: 95156.329 | E24: 88865.917 | F24: 93486.532 | G24: 106833.6 | H24: 110867.57 | I24: 100512.45 | J24: 99654.792 | K24: 91625.883 | L24: 95005.296 | M24: 80100.901 | N24: 72160.612 | O24: 84172.476 | P24: =P21+P22+P23 -> 86925.46 | R24: 367873.94 | S24: 417868.41 | T24: 338892.69
B25: Other operating income / expenses | C25: -344.28518 | D25: -371.11786 | E25: -233.53662 | F25: -4002.6216 | G25: -71.856996 | H25: -456.59126 | I25: -2575.0284 | J25: -5536.2143 | K25: -387.16434 | L25: -256.36639 | M25: -4508.5032 | N25: -1251.2688 | O25: -1376.7165 | P25: =+'[54]Bilan par nature (Conso)'!$G$1286-O25 -> -998.47944 | R25: -4951.5613 | S25: -8639.6909 | T25: -6403.3027
B26: OPERATING INCOME | C26: 90020.878 | D26: 94785.211 | E26: 88632.381 | F26: 89483.91 | G26: 106761.74 | H26: 110410.98 | I26: 97937.425 | J26: 94118.578 | K26: 91238.719 | L26: 94748.93 | M26: 75592.398 | N26: 70909.343 | O26: 82795.759 | P26: =P24+P25 -> 85926.98 | R26: 362922.38 | S26: 409228.72 | T26: 332489.39
B27: Finance costs | C27: -7911.398 | D27: -8199.074 | E27: -8263.2044 | F27: -9895.2867 | G27: -12585.139 | H27: -9657.9598 | I27: -10181.159 | J27: -10536.869 | K27: -10311.036 | L27: -10123.552 | M27: -10545.036 | N27: -9917.7116 | O27: -10060.637 | P27: =+'[54]Bilan par nature (Conso)'!$G$1304-O27 -> -10670.294 | R27: -34268.963 | S27: -42961.127 | T27: -40897.336
B28: Share in net income of associates | C28: 0 | D28: 0 | E28: 0 | F28: 0 | G28: 0 | H28: 0 | I28: 0 | J28: 0 | K28: 0 | L28: 0 | M28: 0 | N28: 0 | O28: 0 | P28: 0 | R28: 0 | S28: 0 | T28: 0
B29: Badwill/Goodwill | C29: 120.72372 | D29: 0.12072372 | E29: 0 | F29: 0 | G29: 0 | H29: 0 | I29: 0 | J29: 0 | K29: 0 | L29: 0 | M29: 0 | N29: 0 | O29: 0 | P29: 0 | R29: 0 | S29: 0 | T29: 0
B30: Income Tax | C30: -21049.722 | D30: -18989.155 | E30: -19477.305 | F30: -28637.737 | G30: -25655.128 | H30: -26980.141 | I30: -22367.242 | J30: -30229.509 | K30: -18629.96 | L30: -22220.413 | M30: -12957.433 | N30: -15139.994 | O30: -18842.11 | P30: =+'[54]Bilan par nature (Conso)'!$G$1314-O30 -> -20979.553 | R30: -88033.195 | S30: -105232.02 | T30: -68947.8
B31: Non-controlling interests | C31: -6.1830112 | D31: 62.382256 | E31: -17.830898 | F31: -158.74589 | G31: -85.276838 | H31: 44.77853 | I31: 40.696247 | J31: 31.016916 | K31: -180.25909 | L31: -321.02808 | M31: -33.7167 | N31: -100.19275 | O31: -282.37007 | P31: =+'[54]Bilan par nature (Conso)'!$G$1317-O31 -> -113.00098 | R31: -120.37755 | S31: 31.214857 | T31: -635.19662
B32: NET INCOME | C32: 61174.299 | D32: 67659.485 | E32: 60874.04 | F32: 50792.141 | G32: 68436.195 | H32: 73817.657 | I32: 65429.72 | J32: 53383.217 | K32: 62117.464 | L32: 62083.937 | M32: 52056.212 | N32: 45751.445 | O32: 53610.642 | P32: =SUM(P26:P31) -> 54164.132 | R32: 240499.84 | S32: 261066.79 | T32: 222009.06
B35: Consolidated income statement (simplified)
C36: IFRS 17 | R36: IFRS 17
B37: in €m | non-audited | C37: =C3 -> Q1 2023 | D37: =D3 -> Q2 2023 | E37: =E3 -> Q3 2023 | F37: =F3 -> Q4 2023 | G37: =G3 -> Q1 2024 | H37: =H3 -> Q2 2024 | I37: =I3 -> Q3 2024 | J37: =J3 -> Q4 2024 | ... P37: =P3 -> Q2 2026 | R37: =R3 -> FY 2023 | S37: =S3 -> FY 2024 | T37: =+T3 -> FY 2025
B38: =+B4 -> Insurance revenue | C38: =C4 -> 395345.22 | D38: =D4 -> 407767.34 | E38: =E4 -> 384698.7 | F38: =F4 -> 371251.69 | G38: =G4 -> 378649.32 | H38: =H4 -> 375635.2 | I38: =I4 -> 375889.25 | J38: =J4 -> 382749.16 | ... P38: =P4 -> 384231.23 | R38: =R4 -> 1559063 | S38: =S4 -> 1512922.9 | T38: =T4 -> 1498656.7
B39: Other revenue | C39: =C8 -> 79788.667 | D39: =D8 -> 76762.334 | E39: =E8 -> 73421.563 | F39: =F8 -> 79195.869 | G39: =G8 -> 85028.551 | H39: =H8 -> 83428.293 | I39: =I8 -> 77952.031 | J39: =J8 -> 85508.948 | ... P39: =P8 -> 89924.5 | R39: =R8 -> 309168.43 | S39: =S8 -> 331917.82 | T39: =T8 -> 348595.36
B40: REVENUE | C40: =C38+C39 -> 475133.88 | D40: =D38+D39 -> 484529.68 | E40: =E38+E39 -> 458120.27 | F40: =F38+F39 -> 450447.56 | G40: =G38+G39 -> 463677.87 | H40: =H38+H39 -> 459063.49 | I40: =I38+I39 -> 453841.28 | J40: =J38+J39 -> 468258.1 | ... P40: =P38+P39 -> 474155.73 | R40: =R38+R39 -> 1868231.4 | S40: =S38+S39 -> 1844840.7 | T40: =T38+T39 -> 1847252
B41: Claims expenses | C41: =C10+C11 -> -161079.36 | D41: =D10+D11 -> -155364.54 | E41: =E10+E11 -> -144420.95 | F41: =F10+F11 -> -97183.194 | G41: =G10+G11 -> -125686.71 | H41: =H10+H11 -> -119189.47 | I41: =I10+I11 -> -126782.27 | J41: =J10+J11 -> -134110.46 | ... P41: =P10+P11 -> -142708.18 | R41: =R10+R11 -> -558048.05 | S41: =S10+S11 -> -505768.91 | T41: =T10+T11 -> -561565.28
B42: Operating expenses | C42: =C17 -> -197367.95 | D42: =D17 -> -199402.3 | E42: =E17 -> -199475.41 | F42: =F17 -> -213756.82 | G42: =G17 -> -207347.51 | H42: =H17 -> -211569.84 | I42: =I17 -> -206957.73 | J42: =J17 -> -226248.8 | ... P42: =P17 -> -235996.08 | R42: =R17 -> -810002.48 | S42: =S17 -> -852123.88 | T42: =T17 -> -891654.05
...

Sheet CoR
B1: Combined ratio
D2: IFRS 17 | S2: IFRS 17
B3: in €m | D3: Q1 2023 | E3: Q2 2023 | F3: Q3 2023 | G3: Q4 2023 | H3: Q1 2024 | I3: Q2 2024 | J3: Q3 2024 | K3: Q4 2024 | L3: Q1 2025 | M3: Q2 2025 | N3: Q3 2025 | O3: Q4 2025 | P3: Q1 2026 | Q3: Q2 2026 | S3: FY 2023 | T3: FY 2024 | U3: FY 2025
B4: =+'P&L - Analytic view'!B38 -> Insurance revenue | C4: (A) | D4: 395345.22 | E4: 407767.34 | F4: 384698.7 | G4: 371251.69 | H4: 378649.32 | I4: 375635.2 | J4: 375889.25 | K4: 382749.16 | L4: 382906.54 | M4: 377057.89 | N4: 368529.13 | O4: 370163.11 | P4: 369776.04 | Q4: =+'P&L - Analytic view'!P4 -> 384231.23 | S4: 1559063 | T4: 1512922.9 | U4: 1498656.7
B5: Ceded premiums | D5: -107789.43 | E5: -109953.28 | F5: -105883.63 | G5: -100388.34 | H5: -101419.7 | I5: -107745.39 | J5: -104677.96 | K5: -103333.29 | L5: -104068.12 | M5: -106572.17 | N5: -102402.49 | O5: -104123.88 | P5: -103128.39 | Q5: =Q6-Q4 -> -105994.74 | S5: -424014.68 | T5: -417176.34 | U5: -417166.66
B6: Net earned premiums | C6: (D) | D6: 287555.79 | E6: 297814.06 | F6: 278815.08 | G6: 270863.35 | H6: 277229.62 | I6: 267889.81 | J6: 271211.29 | K6: 279415.86 | L6: 278838.41 | M6: 270485.72 | N6: 266126.64 | O6: 266039.23 | P6: 266647.65 | Q6: =+[55]Consensus!$D$8*1000 -> 278236.49 | S6: 1135048.3 | T6: 1095746.6 | U6: 1081490
B8: in €m | D8: Q1 2023 | E8: Q2 2023 | F8: Q3 2023 | G8: Q4 2023 | H8: Q1 2024 | I8: Q2 2024 | J8: Q3 2024 | K8: Q4 2024 | L8: Q1 2025 | M8: Q2 2025 | N8: Q3 2025 | O8: Q4 2025 | P8: Q1 2026 | Q8: =Q3 -> Q2 2026 | S8: FY 2023 | T8: FY 2024 | U8: FY 2025
B9: Claims expenses | C9: (B) | D9: -161865.81 | E9: -155591.89 | F9: -144426.26 | G9: -96759.759 | H9: -126122 | I9: -119189.47 | J9: -126391.73 | K9: -134493.23 | L9: -147620.44 | M9: -139648.83 | N9: -129085.74 | O9: -144900.97 | P9: -134458.47 | Q9: =+'P&L - Analytic view'!P10 -> -142448.14 | S9: -558643.72 | T9: -506196.43 | U9: -561255.98
B10: Loss component | D10: 786.45273 | E10: 227.34389 | F10: 5.3061323 | G10: -423.43557 | H10: 435.2859 | I10: 0.001002983 | J10: -390.53429 | K10: 382.76725 | L10: -633.37901 | M10: 593.74317 | N10: -188.70405 | O10: -80.965313 | P10: 284.43964 | Q10: =+'P&L - Analytic view'!P11 -> -260.03561 | S10: 595.66718 | T10: 427.51987 | U10: -309.30521
B11: Ceded claims | D11: 44420.378 | E11: 36301.081 | F11: 32839.054 | G11: 16998.875 | H11: 26509.335 | I11: 27707.331 | J11: 27862.223 | K11: 37683.757 | L11: 39011.08 | M11: 28029.185 | N11: 26665.676 | O11: 32177.689 | P11: 34096.159 | Q11: =+'[56]Décumulé gestion'!$EG$39 -> 39234.699 | S11: 130559.39 | T11: 119762.65 | U11: 125883.63
B12: Ceded loss component | D12: -218.614 | E12: -56.718 | F12: 0 | G12: 0 | H12: 0.004 | I12: -0.004 | J12: 88.032 | K12: -88.032 | L12: 148.051 | M12: -144.449 | N12: 43.763 | O12: 25.41 | P12: -71.998 | Q12: =+'[56]Décumulé gestion'!$EG$41 -> 59.765 | S12: -275.332 | T12: 0 | U12: 72.775
B13: Net claims expenses | C13: (E) | D13: -116877.6 | E13: -119120.18 | F13: -111581.9 | G13: -80184.32 | H13: -99177.372 | I13: -91482.142 | J13: -98832.014 | K13: -96514.739 | L13: -109094.69 | M13: -111170.35 | N13: -102565.01 | O13: -112778.84 | P13: -100149.87 | Q13: =SUM(Q9:Q12) -> -103413.71 | S13: -427763.99 | T13: -386006.27 | U13: -435608.88
B15: in €m | D15: Q1 2023 | E15: Q2 2023 | F15: Q3 2023 | G15: Q4 2023 | H15: Q1 2024 | I15: Q2 2024 | J15: Q3 2024 | K15: Q4 2024 | L15: Q1 2025 | M15: Q2 2025 | N15: Q3 2025 | O15: Q4 2025 | P15: Q1 2026 | Q15: =Q8 -> Q2 2026 | S15: FY 2023 | T15: FY 2024 | U15: FY 2025
B16: Operating expenses | D16: -197367.95 | E16: -199402.3 | F16: -199475.41 | G16: -213756.82 | H16: -207347.51 | I16: -211569.84 | J16: -206957.73 | K16: -226248.8 | L16: -219351.29 | M16: -224429.76 | N16: -220796.21 | O16: -227076.79 | P16: -227890.67 | Q16: =+'P&L - Analytic view'!P42 -> -235996.08 | S16: -810002.48 | T16: -852123.88 | U16: -891654.05
B17: Employee profit sharing sharing and incentive plans | D17: 1410.8217 | E17: 1317.3871 | F17: 1264.3012 | G17: 5200.5756 | H17: 2205.3278 | I17: 2457.3061 | J17: 2454.9391 | K17: 2761.8493 | L17: 2313.5493 | M17: 1795.5636 | N17: 2907.0759 | O17: 2213.4137 | P17: 2246.3861 | Q17: =-'[56]Décumulé gestion'!$EG$78 -> 2310.9298 | S17: 9193.0857 | T17: 9879.4222 | U17: 9229.6026
B18: Other revenue | D18: 79788.667 | E18: 76762.334 | F18: 73421.563 | G18: 79195.869 | H18: 85028.551 | I18: 83428.293 | J18: 77952.031 | K18: 85508.948 | L18: 90313.016 | M18: 86315.485 | N18: 81415.624 | O18: 90551.235 | P18: 95334.139 | Q18: =+'P&L - Analytic view'!P39 -> 89924.5 | S18: 309168.43 | T18: 331917.82 | U18: 348595.36
B19: Operating expenses, net of revenues from other services - before reinsurance | C19: (C) | D19: -116168.47 | E19: -121322.58 | F19: -124789.54 | G19: -129360.38 | H19: -120113.63 | I19: -125684.24 | J19: -126550.76 | K19: -137978 | L19: -126724.73 | M19: -136318.71 | N19: -136473.51 | O19: -134312.14 | P19: -130310.14 | Q19: =SUM(Q16:Q18) -> -143760.65 | S19: -491640.96 | T19: -510326.64 | U19: -533829.09
B20: Commissions received from reinsurers | D20: 42297.413 | E20: 47580.542 | F20: 50002.027 | G20: 49610.362 | H20: 44388.815 | I20: 46502.589 | J20: 45636.025 | K20: 42449.166 | L20: 44380.102 | M20: 47228.369 | N20: 44413.446 | O20: 43343.656 | P20: 43714.144 | Q20: =+'[56]Décumulé gestion'!$EG$40 -> 45684.048 | S20: 189490.35 | T20: 178976.6 | U20: 179365.57
B21: Operating expenses, net of revenues from other services - after reinsurance | C21: (F) | D21: -73871.052 | E21: -73742.035 | F21: -74787.515 | G21: -79750.017 | H21: -75724.814 | I21: -79181.652 | J21: -80914.738 | K21: -95528.838 | L21: -82344.627 | M21: -89090.341 | N21: -92060.069 | O21: -90968.483 | P21: -86595.997 | Q21: =+Q20+Q19 -> -98076.606 | S21: -302150.62 | T21: -331350.04 | U21: -354463.52
B23: in €m | D23: Q1 2023 | E23: Q2 2023 | F23: Q3 2023 | G23: Q4 2023 | H23: Q1 2024 | I23: Q2 2024 | J23: Q3 2024 | K23: Q4 2024 | L23: Q1 2025 | M23: Q2 2025 | N23: Q3 2025 | O23: Q4 2025 | P23: Q1 2026 | Q23: =Q15 -> Q2 2026 | S23: FY 2023 | T23: FY 2024 | U23: FY 2025
B24: Loss ratio before reinsurance | D24: 0.40743976 | E24: 0.38101272 | F24: 0.37541315 | G24: 0.26177172 | H24: 0.33193434 | I24: 0.31730112 | J24: 0.33728623 | K24: 0.35038735 | L24: 0.38718017 | M24: 0.36878974 | N24: 0.35078487 | O24: 0.39167041 | P24: 0.36285214 | Q24: =-(Q9+Q10)/Q4 -> 0.37141223 | S24: 0.35793811 | T24: 0.33429919 | U24: 0.37471243
B25: Loss ratio after reinsurance | D25: 0.4064519 | E25: 0.39998172 | F25: 0.40020037 | G25: 0.29603237 | H25: 0.3577445 | I25: 0.34149168 | J25: 0.36440967 | K25: 0.3454161 | L25: 0.39124698 | M25: 0.41100264 | N25: 0.38539925 | O25: 0.42391807 | P25: 0.37558877 | Q25: =-Q13/Q6 -> 0.3716756 | S25: 0.37686855 | T25: 0.35227695 | U25: 0.40278586
B26: Cost ratio before reinsurance | D26: 0.29384057 | E26: 0.29752892 | F26: 0.32438254 | G26: 0.34844388 | H26: 0.31721602 | I26: 0.33459123 | J26: 0.33667035 | K26: 0.36049199 | L26: 0.33095473 | M26: 0.36153257 | N26: 0.37031948 | O26: 0.36284583 | P26: 0.35240288 | Q26: =-Q19/Q4 -> 0.3741514 | S26: 0.31534388 | T26: 0.33731172 | U26: 0.35620506
B27: Cost ratio after reinsurance | D27: 0.25689294 | E27: 0.24761099 | F27: 0.2682334 | G27: 0.29442897 | H27: 0.27314835 | I27: 0.29557545 | J27: 0.29834577 | K27: 0.34188766 | L27: 0.29531307 | M27: 0.32937169 | N27: 0.34592579 | O27: 0.34193635 | P27: 0.32475814 | Q27: =-Q21/Q6 -> 0.35249369 | S27: 0.26620068 | T27: 0.3023966 | U27: 0.32775478
B28: Combined ratio before reinsurance | D28: 0.70128033 | E28: 0.67854164 | F28: 0.69979569 | G28: 0.6102156 | H28: 0.64915035 | I28: 0.65189234 | J28: 0.67395658 | K28: 0.71087934 | L28: 0.7181349 | M28: 0.73032232 | N28: 0.72110435 | O28: 0.75451624 | P28: 0.71525501 | Q28: =Q24+Q26 -> 0.74556363 | S28: 0.67328199 | T28: 0.67161092 | U28: 0.73091749
B29: Combined ratio after reinsurance | D29: 0.66334484 | E29: 0.64759271 | F29: 0.66843377 | G29: 0.59046134 | H29: 0.63089286 | I29: 0.63706713 | J29: 0.66275543 | K29: 0.68730377 | L29: 0.68656005 | M29: 0.74037434 | N29: 0.73132504 | O29: 0.76585442 | P29: 0.70034691 | Q29: =Q25+Q27 -> 0.72416929 | S29: 0.64306923 | T29: 0.65467356 | U29: 0.73054064

Sheet Turnover & loss ratio by region
B1: Total revenue - split by region
C2: IFRS 17 | R2: IFRS 17
B3: in €m | C3: Q1 2023 | D3: Q2 2023 | E3: Q3 2023 | F3: Q4 2023 | G3: Q1 2024 | H3: Q2 2024 | I3: Q3 2024 | J3: Q4 2024 | K3: Q1 2025 | L3: Q2 2025 | M3: Q3 2025 | N3: Q4 2025 | O3: Q1 2026 | P3: Q2 2026 | R3: FY 2023 | S3: FY 2024 | T3: FY 2025
B4: Northern Europe | C4: 102178.01 | D4: 97905.003 | E4: 91249.993 | F4: 88223.889 | G4: 97846.149 | H4: 87158.038 | I4: 86766.641 | J4: 90388.475 | K4: 97.020487 | L4: 88.156051 | M4: 90.220436 | N4: 89.424428 | O4: 98.996406 | P4: =+'[55]Annexes - Turnover'!$H$4 -> 91.04726 | R4: 379556.89 | S4: 362159.3 | T4: 364821.4
B5: Western Europe | C5: 96607.208 | D5: 97701.799 | E5: 95442.557 | F5: 90323.576 | G5: 91706.553 | H5: 95928.582 | I5: 100796.71 | J5: 103348.41 | K5: 95.982389 | L5: 95.656124 | M5: 95.341754 | N5: 93.295621 | O5: 93.674986 | P5: =+'[55]Annexes - Turnover'!$H$5 -> 100.24343 | R5: 380075.14 | S5: 391780.25 | T5: 380275.89
B6: Central Europe | C6: 45020.186 | D6: 46090.348 | E6: 40960.31 | F6: 44987.597 | G6: 45122.594 | H6: 41889.921 | I6: 42961 | J6: 43808.975 | K6: 42.28985 | L6: 41.641514 | M6: 41.974898 | N6: 42.56958 | O6: 42.245299 | P6: =+'[55]Annexes - Turnover'!$H$6 -> 41.324189 | R6: 177058.44 | S6: 173782.49 | T6: 168475.84
B7: Mediterranean & Africa | C7: 133175.83 | D7: 133783.33 | E7: 131770.18 | F7: 127556.07 | G7: 138877.47 | H7: 137140.77 | I7: 127422.91 | J7: 135064.36 | K7: 143.35666 | L7: 136.84354 | M7: 130.05843 | N7: 144.43207 | O7: 142.70907 | P7: =+'[55]Annexes - Turnover'!$H$7 -> 143.5592 | R7: 526285.41 | S7: 538505.51 | T7: 554690.69
B8: North America | C8: 41947.017 | D8: 43491.707 | E8: 42923.419 | F8: 43487.633 | G8: 42629.729 | H8: 46083.807 | I8: 43810.785 | J8: 44026.893 | K8: 43.466981 | L8: 44.215115 | M8: 40.273424 | N8: 39.608926 | O8: 38.972445 | P8: =+'[55]Annexes - Turnover'!$H$8 -> 43.303029 | R8: 171849.78 | S8: 176551.21 | T8: 167564.45
B9: Latin America | C9: 26408.428 | D9: 28050.82 | E9: 22053.289 | F9: 23790.761 | G9: 18606.129 | H9: 19574.026 | I9: 19931.152 | J9: 19637.617 | K9: 20.419858 | L9: 21.034825 | M9: 20.088844 | N9: 19.789834 | O9: 18.960857 | P9: =+'[55]Annexes - Turnover'!$H$9 -> 23.224964 | R9: 100303.3 | S9: 77748.924 | T9: 81333.36
B10: Asia Pacific | C10: 29797.207 | D10: 37506.669 | E10: 33720.514 | F10: 32078.035 | G10: 28879.271 | H10: 31298.331 | I10: 32152.088 | J10: 31983.369 | K10: 30.683326 | L10: 35.826214 | M10: 31.986973 | N10: 31.593888 | O10: 29.551114 | P10: =+'[55]Annexes - Turnover'!$H$10 -> 31.453661 | R10: 133102.42 | S10: 124313.06 | T10: 130090.4
B11: Total revenue | C11: 475133.88 | D11: 484529.68 | E11: 458120.27 | F11: 450447.56 | G11: 463667.9 | H11: 459073.47 | I11: 453841.28 | J11: 468258.1 | K11: 473.21955 | L11: 463.37338 | M11: 449.94475 | N11: 460.71434 | O11: 465.11018 | P11: =SUM(P4:P10) -> 474.15574 | R11: 1868231.4 | S11: 1844840.8 | T11: 1847252
B14: Loss ratio before reinsurance - split by region
C15: IFRS 17 | R15: IFRS 17
B16: in €m | C16: =+C3 -> Q1 2023 | D16: =+D3 -> Q2 2023 | E16: =+E3 -> Q3 2023 | F16: =+F3 -> Q4 2023 | G16: =G3 -> Q1 2024 | H16: =H3 -> Q2 2024 | I16: =I3 -> Q3 2024 | J16: =J3 -> Q4 2024 | K16: =K3 -> Q1 2025 | L16: =L3 -> Q2 2025 | M16: Q3 2024 | N16: Q4 2024 | O16: Q1 2025 | P16: =P3 -> Q2 2026 | R16: FY 2023 | S16: FY 2024 | T16: FY 2025
B17: Northern Europe | C17: 0.24246404 | D17: 0.28478065 | E17: 0.31746644 | F17: 0.26709783 | G17: 0.42387556 | H17: 0.26027499 | I17: 0.1904988 | J17: 0.60980517 | K17: 0.36421193 | L17: 0.34344671 | M17: 0.35519362 | N17: 0.3257984 | O17: 0.35516641 | P17: =+'[55]Regions - Loss Ratios decumule'!$M$65 -> 0.31354536 | R17: 0.27711887 | S17: 0.37507946 | T17: 0.3474803
B18: Western Europe | C18: 0.42401154 | D18: 0.34665785 | E18: 0.324657 | F18: 0.44065968 | G18: 0.21624987 | H18: 0.28188163 | I18: 0.42597052 | J18: 0.3204083 | K18: 0.25252614 | L18: 0.41008877 | M18: 0.19650333 | N18: 0.3572316 | O18: 0.34595897 | P18: =+'[55]Regions - Loss Ratios decumule'!$M$66 -> 0.42409409 | R18: 0.38279977 | S18: 0.31414838 | T18: 0.30334329
B19: Central Europe | C19: 0.26545143 | D19: 0.33046881 | E19: 0.32486843 | F19: 0.042017199 | G19: 0.35996671 | H19: 0.40853853 | I19: 0.382654 | J19: 0.1388934 | K19: 0.51843956 | L19: 0.34062797 | M19: 0.40112819 | N19: 0.45632991 | O19: 0.47301182 | P19: =+'[55]Regions - Loss Ratios decumule'!$M$67 -> 0.37214972 | R19: 0.24049983 | S19: 0.3216448 | T19: 0.42973195
B20: Mediterranean & Africa | C20: 0.29107309 | D20: 0.4605014 | E20: 0.44638284 | F20: 0.40329905 | G20: 0.43934143 | H20: 0.32543098 | I20: 0.43435704 | J20: 0.25827195 | K20: 0.32129804 | L20: 0.39606646 | M20: 0.46974569 | N20: 0.40465503 | O20: 0.41476948 | P20: =+'[55]Regions - Loss Ratios decumule'!$M$68 -> 0.44002661 | R20: 0.40074761 | S20: 0.36427383 | T20: 0.39654766
B21: North America | C21: 0.31810029 | D21: 0.27703745 | E21: 0.28328946 | F21: 0.22275986 | G21: 0.33251946 | H21: 0.2152101 | I21: 0.24936131 | J21: 0.29843623 | K21: 0.49617219 | L21: 0.31635942 | M21: 0.46468464 | N21: 0.41300028 | O21: 0.4167253 | P21: =+'[55]Regions - Loss Ratios decumule'!$M$69 -> 0.27808782 | R21: 0.27472483 | S21: 0.27309665 | T21: 0.42172679
B22: Latin America | C22: 1.8068729 | D22: 0.48075607 | E22: 0.82640964 | F22: 0.13460232 | G22: -0.35826668 | H22: 0.7151575 | I22: 0.25348556 | J22: 0.092310832 | K22: 1.0698582 | L22: 0.16571424 | M22: -0.22484935 | N22: 0.58006427 | O22: -0.14223158 | P22: =+'[55]Regions - Loss Ratios decumule'!$M$70 -> 0.32643317 | R22: 0.82618406 | S22: 0.18280552 | T22: 0.40384435
B23: Asia Pacific | C23: 0.29153389 | D23: 0.49680299 | E23: 0.25491923 | F23: -0.31565001 | G23: 0.39044827 | H23: 0.29658244 | I23: 0.15280801 | J23: 0.71924703 | K23: 0.33776201 | L23: 0.42718799 | M23: 0.50346087 | N23: 0.35249535 | O23: 0.34750436 | P23: =+'[55]Regions - Loss Ratios decumule'!$M$71 -> 0.22196231 | R23: 0.19876238 | S23: 0.38394436 | T23: 0.40671867
B24: Loss ratio before reinsurance | C24: 0.40743976 | D24: 0.38101272 | E24: 0.37541315 | F24: 0.26177172 | G24: 0.33193433 | H24: 0.31730112 | I24: 0.33728623 | J24: 0.35038735 | K24: 0.38718017 | L24: 0.36878974 | M24: 0.35078487 | N24: 0.39167041 | O24: 0.36285214 | P24: =+'[55]Regions - Loss Ratios decumule'!$M$72 -> 0.37141222 | R24: 0.35793811 | S24: 0.33429919 | T24: 0.37471243

Sheet Turnover by activity
B1: Revenue by activity: quarterly & cumulated figures*
B3: Total revenue by quarter - in €m | C3: =IF([57]Glossaire!A2=[57]Glossaire!D3,[57]Glossaire!D14,[57]Glossaire!C14) -> Q1-25 | D3: =IF([57]Glossaire!A2=[57]Glossaire!D3,[57]Glossaire!D15,[57]Glossaire!C15) -> Q2-25 | E3: =IF([57]Glossaire!A2=[57]Glossaire!D3,[57]Glossaire!D16,[57]Glossaire!C16) -> Q3-25 | F3: =IF([57]Glossaire!A2=[57]Glossaire!D3,[57]Glossaire!D17,[57]Glossaire!C17) -> Q4-25 | G3: Q1-26 | H3: Q2-26 | J3: % | K3: V% ex. FX***
B4: Insurance** | C4: =C15 -> 382.90654 | D4: =D15-C15 -> 377.05789 | E4: =E15-D15 -> 368.52913 | F4: =F15-E15 -> 370.16311 | G4: 369.77604 | H4: =+H15-G15 -> 384.23124 | J4: =H4/D4-1 -> 0.019024519 | K4: =+'[55]Annexes - Turnover by activity'!$K$4 -> 0.013959004 | N4: =K4-M4 -> 0.013959004
B5: Insurance fees | C5: =C16 -> 50.996031 | D5: =D16-C16 -> 45.990307 | E5: =E16-D16 -> 41.650926 | F5: =F16-E16 -> 43.792467 | G5: 51.439501 | H5: =+H16-G16 -> 45.215021 | J5: =H5/D5-1 -> -0.016857609 | K5: =+'[55]Annexes - Turnover by activity'!$K$5 -> -0.02681636
B6: Non-insurance activities | C6: =SUM(C7:C9) -> 39.316985 | D6: =SUM(D7:D9) -> 40.325178 | E6: =SUM(E7:E9) -> 39.764697 | F6: =SUM(F7:F9) -> 46.758768 | G6: 43.894638 | H6: =SUM(H7:H9) -> 44.709479 | J6: =H6/D6-1 -> 0.10872367 | K6: =+'[55]Annexes - Turnover by activity'!$K$6 -> 0.084388285 | N6: =K6-M6 -> 0.084388285
B7: Factoring | C7: =C18 -> 17.624553 | D7: =D18-C18 -> 18.459242 | E7: =E18-D18 -> 17.997891 | F7: =F18-E18 -> 17.79469 | G7: 17.991227 | H7: =+H18-G18 -> 19.3554 | J7: =H7/D7-1 -> 0.04854789 | K7: =+'[55]Annexes - Turnover by activity'!$K$7 -> 0.048002938 | N7: =K7-M7 -> 0.048002938
B8: Business information | C8: =C19 -> 18.463208 | D8: =D19-C19 -> 17.927746 | E8: =E19-D19 -> 18.035013 | F8: =F19-E19 -> 25.535133 | G8: 21.725052 | H8: =+H19-G19 -> 21.114693 | J8: =H8/D8-1 -> 0.17776622 | K8: =+'[55]Annexes - Turnover by activity'!$K$8 -> 0.080231924 | N8: =K8-M8 -> 0.080231924
B9: Debt collection | C9: =C20 -> 3.2292242 | D9: =D20-C20 -> 3.9381897 | E9: =E20-D20 -> 3.7317932 | F9: =F20-E20 -> 3.4289461 | G9: 4.1783587 | H9: =+H20-G20 -> 4.2393863 | J9: =H9/D9-1 -> 0.076480953 | K9: =+'[55]Annexes - Turnover by activity'!$K$9 -> 0.31508668 | N9: =K9-M9 -> 0.31508668
B10: =IF([57]Glossaire!A2=[57]Glossaire!D3,[57]Glossaire!D55,[57]Glossaire!C55) -> Total revenue | C10: =C4+C5+C6 -> 473.21955 | D10: =D4+D5+D6 -> 463.37338 | E10: =E4+E5+E6 -> 449.94475 | F10: =F4+F5+F6 -> 460.71434 | G10: 465.11018 | H10: =H4+H5+H6 -> 474.15574 | J10: =H10/D10-1 -> 0.023269269 | K10: =+'[55]Annexes - Turnover by activity'!$K$10 -> 0.016025406
B14: Total revenue Cumulated - in €m | C14: Q1-25 | D14: H1-25 | E14: 9M-25 | F14: FY-25 | G14: Q1-26 | H14: H1-26 | J14: % | K14: V% ex. FX***
B15: Insurance** | C15: ='[58]Cumulé gestion'!$DT$8/1000 -> 382.90654 | D15: ='[58]Cumulé gestion'!$DX$8/1000 -> 759.96443 | E15: ='[58]Cumulé gestion'!$EB$8/1000 -> 1128.4936 | F15: ='[58]Cumulé gestion'!$EP$8/1000 -> 1498.6567 | G15: 369.77604 | H15: =+'[56]Cumulé gestion'!$EX$8/1000 -> 754.00728 | J15: =H15/D15-1 -> -0.0078387259 | K15: =+'[55]Annexes - Turnover by activity'!$K$17 -> 0.00054073663 | N15: =K15-M15 -> 0.00054073663
B16: Insurance fees | C16: ='[58]Cumulé gestion'!$DT$15/1000 -> 50.996031 | D16: ='[58]Cumulé gestion'!$DX$15/1000 -> 96.986338 | E16: ='[58]Cumulé gestion'!$EB$15/1000 -> 138.63726 | F16: ='[58]Cumulé gestion'!$EP$15/1000 -> 182.42973 | G16: 51.439501 | H16: =+'[56]Cumulé gestion'!$EX$15/1000 -> 96.654522 | J16: =H16/D16-1 -> -0.0034212673 | K16: =+'[55]Annexes - Turnover by activity'!$K$18 -> -0.0018116385
B17: Non-insurance activities | C17: =SUM(C18:C20) -> 39.316985 | D17: =SUM(D18:D20) -> 79.642162 | E17: =SUM(E18:E20) -> 119.40686 | F17: =SUM(F18:F20) -> 166.16563 | G17: 43.894638 | H17: =SUM(H18:H20) -> 88.604117 | J17: =H17/D17-1 -> 0.11252776 | K17: =+'[55]Annexes - Turnover by activity'!$K$19 -> 0.088208549 | N17: =K17-M17 -> 0.088208549
B18: Factoring | C18: ='[58]Cumulé gestion'!$DT$22/1000 -> 17.624553 | D18: ='[58]Cumulé gestion'!$DX$22/1000 -> 36.083795 | E18: ='[58]Cumulé gestion'!$EB$22/1000 -> 54.081686 | F18: ='[58]Cumulé gestion'!$EP$22/1000 -> 71.876376 | G18: 17.991227 | H18: =+'[56]Cumulé gestion'!$EX$22/1000 -> 37.346626 | J18: =H18/D18-1 -> 0.034997181 | K18: =+'[55]Annexes - Turnover by activity'!$K$20 -> 0.035446993 | N18: =K18-M18 -> 0.035446993
B19: Business information | C19: ='[58]Cumulé gestion'!$DT$19/1000 -> 18.463208 | D19: ='[58]Cumulé gestion'!$DX$19/1000 -> 36.390953 | E19: ='[58]Cumulé gestion'!$EB$19/1000 -> 54.425966 | F19: ='[58]Cumulé gestion'!$EP$19/1000 -> 79.961099 | G19: 21.725052 | H19: =+'[56]Cumulé gestion'!$EX$19/1000 -> 42.839746 | J19: =H19/D19-1 -> 0.17720867 | K19: =+'[55]Annexes - Turnover by activity'!$K$21 -> 0.099436726 | N19: =K19-M19 -> 0.099436726
B20: Debt collection | C20: ='[58]Cumulé gestion'!$DT$20/1000+'[58]Cumulé gestion'!$DT$21/1000 -> 3.2292242 | D20: ='[58]Cumulé gestion'!$DX$20/1000+'[58]Cumulé gestion'!$DX$21/1000 -> 7.1674139 | E20: ='[58]Cumulé gestion'!$EB$20/1000+'[58]Cumulé gestion'!$EB$21/1000 -> 10.899207 | F20: ='[58]Cumulé gestion'!$EP$20/1000+'[58]Cumulé gestion'!$EP$21/1000 -> 14.328153 | G20: 4.1783587 | H20: =+('[56]Cumulé gestion'!$EX$20+'[56]Cumulé gestion'!$EX$21)/1000 -> 8.417745 | J20: =H20/D20-1 -> 0.1744466 | K20: =+'[55]Annexes - Turnover by activity'!$K$22 -> 0.31573843 | N20: =K20-M20 -> 0.31573843
B21: =IF([57]Glossaire!A2=[57]Glossaire!D3,[57]Glossaire!D57,[57]Glossaire!C57) -> Total Group | C21: =C15+C16+C17 -> 473.21955 | D21: =D15+D16+D17 -> 936.59293 | E21: =E15+E16+E17 -> 1386.5377 | F21: =F15+F16+F17 -> 1847.252 | G21: 465.11018 | H21: =H15+H16+H17 -> 939.26592 | J21: =H21/D21-1 -> 0.0028539457 | K21: =+'[59]Annexes - Turnover by activity'!$J$23 -> -0.00021647351
B24: * Does not include unconsolidated scope
B25: ** Including Bonding & Single Risk
B26: ***Also excludes scope impact

Sheet Solvency
B1: Solvency required capital
B3: €m | C3: 31/12/2019 (PIM)** | D3: 30/06/2020 (PIM)** | E3: 31/12/2020 (PIM)** | F3: 30/06/2021 (PIM)*** | G3: 31/12/2021 (PIM)** | H3: 30/06/2022 (PIM)** | I3: 31/12/2022 (PIM)** | J3: 30/06/2023 (PIM)** | K3: 31/12/2023 (PIM)** | L3: 30/06/2024 (PIM)** | M3: 31/12/2024 (PIM)** | N3: 30/06/2025 (PIM)** | O3: 31/12/2025 (PIM)** | P3: 30/06/2026 (PIM)**
B4: Required capital - Non-life underwriting risk | C4: 705.34306 | D4: 674.19095 | E4: 682.07912 | F4: 771.32424 | G4: 831.47591 | H4: 820.54577 | I4: 728.92903 | J4: 809.27903 | K4: 846.16878 | L4: 896.96473 | M4: 824.26714 | N4: 838.42971 | O4: 840.09879 | P4: =[60]Graph_Comm!$C$6 -> 914.93625
B5: Required capital - Market risk | C5: 324.45606 | D5: 283.16379 | E5: 305.26269 | F5: 339.2591 | G5: 388.20246 | H5: 294.73022 | I5: 327.76399 | J5: 310.44967 | K5: 297.09396 | L5: 333.62697 | M5: 347.56096 | N5: 371.82076 | O5: 374.217 | P5: =[60]Graph_Comm!$C$7 -> 372.60923
B6: Required capital - Counterparty risk | C6: 115.70914 | D6: 123.90432 | E6: 121.41249 | F6: 125.82718 | G6: 119.76673 | H6: 166.9007 | I6: 167.51107 | J6: 164.44116 | K6: 157.60105 | L6: 165.89879 | M6: 172.08376 | N6: 167.29224 | O6: 152.77053 | P6: =[60]Graph_Comm!$C$8 -> 162.96191
B7: Required capital - Operational risk | C7: 37.426829 | D7: 37.021071 | E7: 36.504082 | F7: 37.682184 | G7: 39.709486 | H7: 43.14156 | I7: 46.098002 | J7: 48.924335 | K7: 48.057571 | L7: 46.525532 | M7: 46.647806 | N7: 46.864744 | O7: 46.348656 | P7: =[60]Graph_Comm!$C$10 -> 46.237487
B8: Diversification | C8: -137.36385 | D8: -132.18501 | E8: -139.79109 | F8: -148.93573 | G8: -156.61527 | H8: -160.21256 | I8: -165.25274 | J8: -162.53715 | K8: -156.11603 | L8: -168.20311 | M8: -168.09311 | N8: -173.41049 | O8: -172.62794 | P8: =[60]Graph_Comm!$C$9 -> -176.54675
B9: Tax adjustment | C9: -101.49276 | D9: -60.505962 | E9: -97.412665 | F9: -115.36877 | G9: -167.66371 | H9: -165.23508 | I9: -129.27693 | J9: -133.92031 | K9: -129.83401 | L9: -140.08369 | M9: -135.43105 | N9: -131.67184 | O9: -117.12877 | P9: =[60]Graph_Comm!$C$11 -> -117.75695
B10: Insurance required capital | C10: =SUM(C4:C9) -> 944.07848 | D10: =SUM(D4:D9) -> 925.58916 | E10: =SUM(E4:E9) -> 908.05462 | F10: =SUM(F4:F9) -> 1009.7882 | G10: =SUM(G4:G9) -> 1054.8756 | H10: =SUM(H4:H9) -> 999.8706 | I10: =SUM(I4:I9) -> 975.77242 | J10: =SUM(J4:J9) -> 1036.6367 | ... L10: =SUM(L4:L9) -> 1134.7292 | M10: 1087.0355 | N10: =SUM(N4:N9) -> 1119.3251 | O10: =SUM(O4:O9) -> 1123.6783 | P10: =SUM(P4:P9) -> 1202.4412
B11: Factoring required capital | C11: 213.45259 | D11: 205.29775 | E11: 168.72305 | F11: 177.93826 | G11: 208.71897 | H11: 236.4925 | I11: 223.21132 | J11: 241.70125 | K11: 239.49708 | L11: 242.56078 | M11: 253.20049 | N11: 251.07649 | O11: 193.62761 | P11: =[60]Graph_Comm!$C$13 -> 195.20834
B12: Group SCR | C12: =C10+C11 -> 1157.5311 | D12: =D10+D11 -> 1130.8869 | E12: =E10+E11 -> 1076.7777 | F12: =F10+F11 -> 1187.7265 | G12: =G10+G11 -> 1263.5946 | H12: =H10+H11 -> 1236.3631 | I12: =I10+I11 -> 1198.9837 | J12: =J10+J11 -> 1278.338 | ... L12: =L10+L11 -> 1377.29 | M12: 1340.236 | N12: =N10+N11 -> 1370.4016 | O12: =O10+O11 -> 1317.3059 | P12: =P11+P10 -> 1397.6495
B13: T1 capital | C13: 1892.9036 | D13: 1722.9107 | E13: 1757.2482 | F13: 1830.2081 | G13: 2032.0957 | H13: 1948.8242 | I13: 1866.9868 | J13: 1908.035 | K13: 1934.7456 | L13: 2026.2573 | M13: 1973.7536 | N13: 2004.9827 | O13: 1957.8645 | P13: =[60]Graph_Comm!$C$17 -> 2034.9353
B14: T2 capital | C14: 418.85668 | D14: 411.20679 | E14: 417.07854 | F14: 404.47966 | G14: 406.61383 | H14: 385.78665 | I14: 515.16068 | J14: 524.46904 | K14: 626.09221 | L14: 625.63088 | M14: 628.59542 | N14: 638.21546 | O14: 611.07607 | P14: =[60]Graph_Comm!$C$18 -> 626.02728
B15: T3 capital | C15: 35.170665 | D15: 21.014175 | E15: 29.349994 | F15: 29.294959 | G15: 33.51204 | H15: 33.533337 | I15: 22.13859 | J15: 18.888659 | K15: 25.141986 | L15: 28.257489 | M15: 27.216372 | N15: 29.602979 | O15: 31.68664 | P15: =[60]Graph_Comm!$C$19 -> 47.917455
B16: Total eligible own funds | C16: =SUM(C13:C15) -> 2346.9309 | D16: =SUM(D13:D15) -> 2155.1317 | E16: =SUM(E13:E15) -> 2203.6767 | F16: =SUM(F13:F15) -> 2263.9828 | G16: =SUM(G13:G15) -> 2472.2216 | H16: =SUM(H13:H15) -> 2368.1442 | I16: =SUM(I13:I15) -> 2404.286 | J16: =SUM(J13:J15) -> 2451.3927 | ... L16: =SUM(L13:L15) -> 2680.1457 | M16: 2629.5654 | N16: =SUM(N13:N15) -> 2672.8011 | O16: =SUM(O13:O15) -> 2600.6272 | P16: =SUM(P13:P15) -> 2708.8801
B17: SOLVENCY RATIO | C17: =C16/C12 -> 2.0275317 | D17: =D16/D12 -> 1.9057004 | E17: =E16/E12 -> 2.0465475 | F17: =F16/F12 -> 1.9061483 | G17: =G16/G12 -> 1.956499 | H17: =H16/H12 -> 1.9154116 | I17: =I16/I12 -> 2.0052699 | J17: =J16/J12 -> 1.9176405 | ... L17: =L16/L12 -> 1.945956 | M17: 1.9620167 | N17: 1.9500973 | O17: 1.9742014 | P17: =P16/P12 -> 1.9381683
B25: * This estimated solvency ratio is a preliminary calculation made according to Coface’s interpretation of the Solvency 2 Regulations. The result of the final calculation could differ from this preliminary calculation. The estimated solvency ratio has not been audited. It includes a stricter estimate of the factoring business line.
B27: ** This estimated solvency ratio constitutes a preliminary calculation made according to Coface’s interpretation of Solvency II regulations and using the Partial Internal Model. The result of the definitive calculation may differ from the preliminary calculation. The estimated solvency ratio is not audited.

Sheet IMPORTANT LEGAL INFORMATION
B2: IMPORTANT NOTICE:
B4: The information contained in this spreadsheet has not been subject to independent verification. No representation, warranty or undertaking, express or implied, is made as to, and no reliance should be placed on, the fairness, accuracy, completeness or correctness of the information contained herein. None of the Coface Group, its affiliates or its advisors, nor any representatives of such persons, shall have any liability whatsoever for any loss arising from any use of this document or its contents or otherwise arising in connection with this document or any other information or material discussed. Participants should read the financial statements for the period ending 30 June 2026 and complete this information with the Universal Registration Document for the year 2025. The Universal Registration Document for 2025 was registered by the Autorité des marchés financiers (“AMF”) on April 2, 2026 under the No. D.26-0218. These documents all together present a detailed description of the Coface Group, its business, strategy, financial condition, results of operations and risk factors. This spreadhseet contains certain information that has not been prepared in accordance with International Financial Reporting Standards (“IFRS”). This information has important limitations as an analytical tool and should not be considered in isolation or as a substitute for analysis of our results as reported under IFRS. More comprehensive information about the Coface Group may be obtained on its Internet website (http://www.coface.com/Investors). This document does not constitute an offer to sell, or a solicitation of an offer to buy COFACE SA securities in any jurisdiction.
